BEGIN:VCALENDAR
VERSION:2.0
PRODID:-//wp-events-plugin.com//7.2.3.1//EN
TZID:America/New_York
X-WR-TIMEZONE:America/New_York
BEGIN:VEVENT
UID:251@templeharshalom.org
DTSTART;TZID=America/New_York:20260421T183000
DTEND;TZID=America/New_York:20260421T210000
DTSTAMP:20260304T221716Z
URL:https://www.templeharshalom.org/events/koolulam-raise-your-voice-in-so
 ng-for-israel/
SUMMARY:Koolulam: Raise Your Voice In Song For Israel
DESCRIPTION:Join Cantor Shemesh &amp\; Cantor Emerita Berman as we join tog
 ether in song!\n\n
ATTACH;FMTTYPE=image/jpeg:https://www.templeharshalom.org/wp-content/uploa
 ds/2026/03/Koolulam-graphic.png
CATEGORIES:Featured Events
END:VEVENT
BEGIN:VTIMEZONE
TZID:America/New_York
X-LIC-LOCATION:America/New_York
BEGIN:DAYLIGHT
DTSTART:20260308T030000
TZOFFSETFROM:-0500
TZOFFSETTO:-0400
TZNAME:EDT
END:DAYLIGHT
END:VTIMEZONE
END:VCALENDAR